BEGIN:VCALENDAR
VERSION:2.0
PRODID:-//BBMRI-ERIC - ECPv6.15.11//NONSGML v1.0//EN
CALSCALE:GREGORIAN
METHOD:PUBLISH
X-WR-CALNAME:BBMRI-ERIC
X-ORIGINAL-URL:https://dev.bbmri-eric.eu
X-WR-CALDESC:Events for BBMRI-ERIC
REFRESH-INTERVAL;VALUE=DURATION:PT1H
X-Robots-Tag:noindex
X-PUBLISHED-TTL:PT1H
BEGIN:VTIMEZONE
TZID:Europe/Paris
BEGIN:DAYLIGHT
TZOFFSETFROM:+0100
TZOFFSETTO:+0200
TZNAME:CEST
DTSTART:20240331T010000
END:DAYLIGHT
BEGIN:STANDARD
TZOFFSETFROM:+0200
TZOFFSETTO:+0100
TZNAME:CET
DTSTART:20241027T010000
END:STANDARD
BEGIN:DAYLIGHT
TZOFFSETFROM:+0100
TZOFFSETTO:+0200
TZNAME:CEST
DTSTART:20250330T010000
END:DAYLIGHT
BEGIN:STANDARD
TZOFFSETFROM:+0200
TZOFFSETTO:+0100
TZNAME:CET
DTSTART:20251026T010000
END:STANDARD
BEGIN:DAYLIGHT
TZOFFSETFROM:+0100
TZOFFSETTO:+0200
TZNAME:CEST
DTSTART:20260329T010000
END:DAYLIGHT
BEGIN:STANDARD
TZOFFSETFROM:+0200
TZOFFSETTO:+0100
TZNAME:CET
DTSTART:20261025T010000
END:STANDARD
END:VTIMEZONE
BEGIN:VTIMEZONE
TZID:Europe/Vienna
BEGIN:DAYLIGHT
TZOFFSETFROM:+0100
TZOFFSETTO:+0200
TZNAME:CEST
DTSTART:20230326T010000
END:DAYLIGHT
BEGIN:STANDARD
TZOFFSETFROM:+0200
TZOFFSETTO:+0100
TZNAME:CET
DTSTART:20231029T010000
END:STANDARD
BEGIN:DAYLIGHT
TZOFFSETFROM:+0100
TZOFFSETTO:+0200
TZNAME:CEST
DTSTART:20240331T010000
END:DAYLIGHT
BEGIN:STANDARD
TZOFFSETFROM:+0200
TZOFFSETTO:+0100
TZNAME:CET
DTSTART:20241027T010000
END:STANDARD
BEGIN:DAYLIGHT
TZOFFSETFROM:+0100
TZOFFSETTO:+0200
TZNAME:CEST
DTSTART:20250330T010000
END:DAYLIGHT
BEGIN:STANDARD
TZOFFSETFROM:+0200
TZOFFSETTO:+0100
TZNAME:CET
DTSTART:20251026T010000
END:STANDARD
END:VTIMEZONE
BEGIN:VEVENT
DTSTART;TZID=Europe/Paris:20250411T110000
DTEND;TZID=Europe/Paris:20250411T120000
DTSTAMP:20260421T004306
CREATED:20250311T101141Z
LAST-MODIFIED:20250311T110744Z
UID:80874-1744369200-1744372800@dev.bbmri-eric.eu
SUMMARY:Navigating the Future: Legal and IT Challenges\, Risks\, and Opportunities of AI in Biobanking
DESCRIPTION:Navigating the Future: Legal and IT Challenges\, Risks\, and Opportunities of AI in Biobanking –\nELSI Dialogues session\nThe integration of Artificial Intelligence (AI) into biobanking presents transformative opportunities for research\, diagnostics\, and personalised medicine. However\, this technological evolution also introduces complex legal\, regulatory\, and technical challenges. \nJoin us for an engaging and interactive webinar featuring a dynamic dialogue between two leading experts: Prof. Nikolaus Forgó (University of Vienna\, Austria)\, Professor for IT- and IP Law\, who is also an expert member of the Austrian Data Protection Council and Member of the AI Advisory Board and Prof. Marco Montali (The Free University of Bozen-Bolzano\, Italy)\, Professor in Computer Engineering and awarded by the Italian Association of Artificial Intelligence to the best under 35 Italian researchers in artificial intelligence. \nThis session will address critical regulatory frameworks such as the GDPR and the AI Act\, examining how data protection laws influence the deployment of AI technologies in biobanking\, what the legal responsibilities arising from AI-driven decisions are and how the AI Act is publicly perceived. \nThe webinar will also showcase real-world applications of AI in biobank data analysis and management\, and discuss methods to mitigate bias in AI algorithms and strategies to ensure transparency and explainability in AI-driven insights. \nFurthermore\, our speakers will explore the inherent tension between political\, legal\, and technical considerations when implementing AI at scale\, sharing concrete examples and best practices. \nThis event will foster an open and thought-provoking conversation\, encouraging active participation and deeper insights. \n  \nDon’t miss this opportunity to be part of an interactive and insightful dialogue! \nJoin us on 11 April 2025 at 11:00 CEST.  \nRegister here. \n  \nModerator: \nDr. Ilaria Colussi (BBMRI-ERIC) \nSpeakers:  \nProf. Nikolaus Forgó (University of Vienna\, Austria) \nProf. Marco Montali (Free University of Bozen-Bolzano\, Italy) \n  \nThis webinar is a offered by ELSI Services & Research Department at BBMRI-ERIC.
URL:https://dev.bbmri-eric.eu/events/navigating-the-future-legal-and-it-challenges-risks-and-opportunities-of-ai-in-biobanking/
CATEGORIES:BBMRI Events,Webinar
ATTACH;FMTTYPE=image/png:https://dev.bbmri-eric.eu/wp-content/uploads/ELSI_Dialogues_April2025-e1741687873763.png
END:VEVENT
BEGIN:VEVENT
DTSTART;TZID=Europe/Paris:20250224T100000
DTEND;TZID=Europe/Paris:20250224T110000
DTSTAMP:20260421T004306
CREATED:20250204T145843Z
LAST-MODIFIED:20250204T145843Z
UID:80264-1740391200-1740394800@dev.bbmri-eric.eu
SUMMARY:Access and benefit-sharing of Genetic Resources: the Nagoya Protocol applied to biobanks
DESCRIPTION:Access and benefit-sharing of Genetic Resources: the Nagoya Protocol applied to biobanks\nThe fair and equitable sharing of benefits from genetic resources—known as Access and Benefit-Sharing (ABS)—is a key principle in global research and innovation. Governed by the Nagoya Protocol\, this international framework ensures compliance and fair use of genetic material\, with 141 countries on board since its enforcement in 2014. \nFor researchers\, biobanks\, and institutions\, navigating national ABS regulations can be complex\, impacting how biological materials are accessed and exchanged. Clear guidelines are essential to streamline compliance while enabling scientific progress. \nJoin us for an insightful webinar\, where Melania Muñoz (Leibniz Institute DSMZ) will break down the Nagoya Protocol and its impact on biobanks. Josephine Uldry (Swiss Biobanking Platform) will explore the Swiss regulatory landscape\, while Dr. Christian de Guttry (Swiss Institute of Bioinformatics) will share real-world insights of the Nagoya protocol application from Swiss and pan-European research projects. \nDon’t miss this opportunity to gain practical knowledge\, expert perspectives\, and actionable strategies to navigate ABS with confidence! \nJoin us on 24 February 2025 at 10:00 CEST. \nRegister online: https://cesnet.zoom.us/webinar/register/WN_3Tkkwf7US0OJlkibAwGEyg \nModerator: \nIlaria Colussi (BBMRI-ERIC) \nSpeakers:  \nMelania Muñoz (Leibniz Institute DSMZ) \nJosephine Uldry (Swiss Biobanking Platform) \nChristian de Guttry (Swiss Institute of Bioinformatics) \n  \nThis webinar is a offered by the ELSI Services & Research Department at BBMRI-ERIC.
URL:https://dev.bbmri-eric.eu/events/access-and-benefit-sharing-of-genetic-resources-the-nagoya-protocol-applied-to-biobanks/
CATEGORIES:BBMRI Events,Webinar
ATTACH;FMTTYPE=image/png:https://dev.bbmri-eric.eu/wp-content/uploads/ELSI_Dialogues_Nagoya_Feb24-e1738680826583.png
END:VEVENT
BEGIN:VEVENT
DTSTART;TZID=Europe/Vienna:20241030T150000
DTEND;TZID=Europe/Vienna:20241030T163000
DTSTAMP:20260421T004306
CREATED:20241023T102224Z
LAST-MODIFIED:20241023T102224Z
UID:78885-1730300400-1730305800@dev.bbmri-eric.eu
SUMMARY:BBMRI-ERIC Academy: Webinar – „High quality samples and what about the data?!“
DESCRIPTION:BBMRI-ERIC Academy: Webinar – „High quality samples and what about the data?!“\nThis BBMRI-ERIC ACADEMY webinar aims to highlight the importance of “data quality” for the BBMRI community\, including data and technology experts\, quality managers\, and biobank professionals. We will delve into the different aspects of data quality\, measurement techniques\, and its practical use in centralised databases such as the CRC Cohort\, as well as in federated systems like the Federated Platform. The session is designed for biobankers\, data scientists and researchers\, Quality Managers as well as healthcare professionals. \nWhen: 30 October\, 3:00 – 4:30 pm CET \nWhere: online (Zoom) \n  \nRegistration\nPLEASE REGISTER* to the Zoom meeting https://cesnet.zoom.us/meeting/register/tJArd-uhrT8rHtB7OJ1uz_wDqojXvDSU1L7m and MAKE USE of the possibility to add the event to your calendar. \nPlease spread the invitation about the BBMRI-ERIC Academy sessions in your RIs\, networks and social media channels (please use @BBMRIERIC and #BBMRI_QM)\, the event is open to anyone interested. \n  \nSpeakers\nThe webinar will be hosted by Zohaib Hassan (Charité\, Germany) and we will have four distinguished speakers as our guests: \nNiina Eklund (BBMRI-ERIC) \nEva García Álvarez (BBMRI-ERIC) \nDefne Halici (DKFZ\, Germany) \nHang Phan (BC Platforms\, UK) \n  \nAgenda\n3:00 – 3:10: Welcome and introduction (Zohaib Hassan) \n3:10 – 4:15: High quality samples and what about the data?! (scientific lecture) (Guests) \n4:15 – 4:25: Discussion\, Q&A (all) \n4:25 – 4:30: Word of thanks and end of meeting (Zohaib Hassan) \n  \nFor further questions\, please feel free to contact the BBMRI.QM team: \nQM Experts \n \n  \n  \n 
URL:https://dev.bbmri-eric.eu/events/bbmri-eric-academy-webinar-high-quality-samples-and-what-about-the-data/
LOCATION:Online
CATEGORIES:BBMRI Events,Webinar
ATTACH;FMTTYPE=image/png:https://dev.bbmri-eric.eu/wp-content/uploads/QM_Academy_Oct_2024_final-e1729677914544.png
ORGANIZER;CN="BBMRI.QM Academy":MAILTO:ulrike.rohrer@bbmri-eric.eu
END:VEVENT
END:VCALENDAR